BEGIN:VCALENDAR
VERSION:2.0
PRODID:-//Fawcett Lake Resort - ECPv6.15.1.1//NONSGML v1.0//EN
CALSCALE:GREGORIAN
METHOD:PUBLISH
X-WR-CALNAME:Fawcett Lake Resort
X-ORIGINAL-URL:https://www.fawcettlakeresort.com
X-WR-CALDESC:Events for Fawcett Lake Resort
REFRESH-INTERVAL;VALUE=DURATION:PT1H
X-Robots-Tag:noindex
X-PUBLISHED-TTL:PT1H
BEGIN:VTIMEZONE
TZID:America/Phoenix
BEGIN:STANDARD
TZOFFSETFROM:-0700
TZOFFSETTO:-0700
TZNAME:MST
DTSTART:20160101T000000
END:STANDARD
END:VTIMEZONE
BEGIN:VEVENT
DTSTART;TZID=America/Phoenix:20240519T130000
DTEND;TZID=America/Phoenix:20240519T150000
DTSTAMP:20260425T062713
CREATED:20231024T201059Z
LAST-MODIFIED:20240222T210555Z
UID:3248-1716123600-1716130800@www.fawcettlakeresort.com
SUMMARY:Annual Campers Meeting
DESCRIPTION:All Annual Campers\, as well as their friends and family\, are invited to the Annual Campers Meeting.  This is where the details of events for the new season will be announced and any other outstanding projects will be updated.  You can also bring up any issue that you think should also be discussed.  If you prefer\, mention the issue to the Campers Club ahead of time and it will be added to the agenda for the meeting.  As always\, the meeting will be held on the Sunday of the May long weekend (May 19) at 1.00pm outside the Store Community Building.  This event will be held outside so bring a lawn chair.
URL:https://www.fawcettlakeresort.com/event/annual-campers-meeting-2/
LOCATION:Store Community Building
END:VEVENT
BEGIN:VEVENT
DTSTART;TZID=America/Phoenix:20240519T113000
DTEND;TZID=America/Phoenix:20240519T130000
DTSTAMP:20260425T062713
CREATED:20240219T185522Z
LAST-MODIFIED:20240222T210631Z
UID:3312-1716118200-1716123600@www.fawcettlakeresort.com
SUMMARY:Mothers Day Tea Extravaganza
DESCRIPTION:Mothers Day Tea Extravaganza will be held Sunday\, May 19 at 11:30am in the store parking lot. \n– Coffee\, tea\, juice\, punch\, water – \nThere will be a Surprise for mothers and a gift basket draw. \nThe Annual Meeting will follow this event
URL:https://www.fawcettlakeresort.com/event/mothers-day-tea-extravaganza/
LOCATION:Store Community Building
END:VEVENT
BEGIN:VEVENT
DTSTART;TZID=America/Phoenix:20230702T130000
DTEND;TZID=America/Phoenix:20230702T150000
DTSTAMP:20260425T062713
CREATED:20221128T205218Z
LAST-MODIFIED:20230621T164815Z
UID:3039-1688302800-1688310000@www.fawcettlakeresort.com
SUMMARY:Annual Campers Meeting
DESCRIPTION:Everyone at the lake is invited to the Annual Campers Meeting.  This includes all Annual Campers as well as their friends and family.  At this meeting the events of the new season will be talked about\, as well as any other projects that are outstanding.  If you have an issue at the lake then this is where you can bring it up for discussion.  If you prefer\, you can contact the Campers Club directly about the issue and it will be added to the agenda for the meeting.  As always\, the meeting will be held on the Sunday of the May long weekend (which is May 21) at 1.00pm outside the Store Community Building.  Remember to dress for the weather and to bring a lawn chair. \nThis event has been postponed until July 2 at 1.00pm outside the Store Community Building.
URL:https://www.fawcettlakeresort.com/event/annual-camper-meeting/
LOCATION:Store Community Building
END:VEVENT
BEGIN:VEVENT
DTSTART;TZID=America/Phoenix:20220904T094500
DTEND;TZID=America/Phoenix:20220904T110000
DTSTAMP:20260425T062713
CREATED:20220805T155340Z
LAST-MODIFIED:20220805T155340Z
UID:2971-1662284700-1662289200@www.fawcettlakeresort.com
SUMMARY:Fun Run
DESCRIPTION:Is anyone interested in a fun run or walk around the resort? The route of Narrows Way north through the Resort\, then Fern Trail\, the Emergency Road and then Resort Road is approximately 2.5 km for the walkers. The runners/joggers will need to complete one more loop for 5.0km. The route would finish back at the Store Community Building\, with potential speeding ticket for those who have clocked an overall speed in excess of 10 km/h. Free bottled water will be provided. \nRegistration in advance of the event is required to allow the recording of the finishing times for the runners. This can be done at the Resort Store parking lot from 9:30 am to 9:45 am. Participation is free with some prizes for the younger runners. \nThe runners/joggers will start at 10:00 am with the Walkers starting at 10:05 am. \nDrop by Lot 27 to chat with Nick or Maryann if you have any questions or ideas to add to this event.
URL:https://www.fawcettlakeresort.com/event/fun-run/
LOCATION:Store Community Building
END:VEVENT
BEGIN:VEVENT
DTSTART;TZID=America/Phoenix:20220903T120000
DTEND;TZID=America/Phoenix:20220903T140000
DTSTAMP:20260425T062713
CREATED:20220827T233939Z
LAST-MODIFIED:20220827T234627Z
UID:2984-1662206400-1662213600@www.fawcettlakeresort.com
SUMMARY:Fall BBQ
DESCRIPTION:H a m b u r g e r s\nO\nT\nD r i n k s\nO\nG\nS k i l l s C h a l l e n g e \n  \nEveryone is invited to the fall BBQ where there will be “Free Food for a Smile”.
URL:https://www.fawcettlakeresort.com/event/fall-bbq/
LOCATION:Store Community Building
END:VEVENT
BEGIN:VEVENT
DTSTART;TZID=America/Phoenix:20220730T113000
DTEND;TZID=America/Phoenix:20220730T130000
DTSTAMP:20260425T062713
CREATED:20220720T233124Z
LAST-MODIFIED:20220720T233124Z
UID:2968-1659180600-1659186000@www.fawcettlakeresort.com
SUMMARY:Long Weekend BBQ
DESCRIPTION:Come and have a burger or a hot dog\, some good conversation and meet some of our fine fellow campers.
URL:https://www.fawcettlakeresort.com/event/long-weekend-bbq/
LOCATION:Store Community Building
END:VEVENT
BEGIN:VEVENT
DTSTART;TZID=America/Phoenix:20220702T130000
DTEND;TZID=America/Phoenix:20220702T130000
DTSTAMP:20260425T062713
CREATED:20220625T163733Z
LAST-MODIFIED:20220625T164252Z
UID:2959-1656766800-1656766800@www.fawcettlakeresort.com
SUMMARY:Red and White Parade
DESCRIPTION:It is time to start thinking about decorating for the annual Red and White Parade to celebrate Canada’s birthday.  This year we will have independent judges and the 1st\, 2nd\, and 3rd best entry will win a prize. \nThe parade will start at the north end of the Resort at 1.00pm on Saturday and be led by our new Campers Club President.  It will then wander throughout the Resort ending at the Main Swimming Beach where the judging will take place. \nAs always candy is acceptable to hand out this year\, but we ask that there are no balloons\, but spraying water is always fun too! \n 
URL:https://www.fawcettlakeresort.com/event/red-and-white-parade/
LOCATION:Throughout the Resort
END:VEVENT
BEGIN:VEVENT
DTSTART;TZID=America/Phoenix:20220701T230000
DTEND;TZID=America/Phoenix:20220701T230000
DTSTAMP:20260425T062713
CREATED:20220625T163727Z
LAST-MODIFIED:20220625T163727Z
UID:2960-1656716400-1656716400@www.fawcettlakeresort.com
SUMMARY:Canada Day Fireworks
DESCRIPTION:It is time to celebrate Canada Day long weekend with a bang!  The Campers Club Fireworks display will be taking place at the Main Swimming Beach in front of the Store Community Building @11pm Friday July 1st (in case of inclement weather Saturday will be the backup).  Thank you to Adam from lot 161 for putting on another show for us.  Any donations can be made directly to him. \nOn the night of the show\, please obey all barriers & road blocks as the area can get very busy and we need a perimeter for everyone’s safety.  Help is very much appreciated the following morning @11am for a beach cleanup as they can make quite the mess.
URL:https://www.fawcettlakeresort.com/event/canada-day-fireworks-2/
LOCATION:Main Swimming Beach
END:VEVENT
BEGIN:VEVENT
DTSTART;TZID=America/Phoenix:20220618T113000
DTEND;TZID=America/Phoenix:20220618T130000
DTSTAMP:20260425T062713
CREATED:20220606T174243Z
LAST-MODIFIED:20220606T174243Z
UID:2948-1655551800-1655557200@www.fawcettlakeresort.com
SUMMARY:Father's Day Spring Barbeque
DESCRIPTION:The Father’s Day Spring Barbeque will be held on June 18 at 11.30am.  in the parking lot of the Store Community Building.  Everyone is welcome to come share some time with your lake friends and start the season off right.
URL:https://www.fawcettlakeresort.com/event/fathers-day-spring-barbeque/
END:VEVENT
BEGIN:VEVENT
DTSTART;TZID=America/Phoenix:20220522T130000
DTEND;TZID=America/Phoenix:20220522T150000
DTSTAMP:20260425T062713
CREATED:20220407T224114Z
LAST-MODIFIED:20220407T225529Z
UID:2922-1653224400-1653231600@www.fawcettlakeresort.com
SUMMARY:Annual Campers Meeting
DESCRIPTION:The Annual Meeting of all Annual Campers is for everyone who calls the Resort their summer home.  This is the opportunity to present or discuss the issues and to help plan the events of this season.  It is expected to be an open meeting again this year for everyone to attend in person. \nThe meeting will be held on the Sunday of the May long weekend (which is May 22) at 1.00pm outside the Store Community Building.  Bring a lawn chair and dress for the weather.
URL:https://www.fawcettlakeresort.com/event/annual-meeting-2/
LOCATION:Store Community Building
END:VEVENT
BEGIN:VEVENT
DTSTART;TZID=America/Phoenix:20210905T110000
DTEND;TZID=America/Phoenix:20210905T130000
DTSTAMP:20260425T062713
CREATED:20210825T185142Z
LAST-MODIFIED:20210825T185142Z
UID:2858-1630839600-1630846800@www.fawcettlakeresort.com
SUMMARY:Fall Barbeque
DESCRIPTION:Come share some time with your lake friends and enjoy the last weekend of the summer.  Bring your own lawn chair (and likely a sweater) as this event will be held outside. \nDonations will be accepted.
URL:https://www.fawcettlakeresort.com/event/fall-barbeque/
LOCATION:Store Community Building
END:VEVENT
BEGIN:VEVENT
DTSTART;TZID=America/Phoenix:20210703T140000
DTEND;TZID=America/Phoenix:20210703T150000
DTSTAMP:20260425T062713
CREATED:20210622T040029Z
LAST-MODIFIED:20210622T040029Z
UID:2825-1625320800-1625324400@www.fawcettlakeresort.com
SUMMARY:Red & White Parade
DESCRIPTION:As you may have heard\, the traditional Red & White Parade will be held at the lake again this year as part of our Canada Celebrations.  Decorate your quads\, bikes\, side-by-sides … and lawn mowers\, to celebrate Canada’s birthday in style. \nHopefully\, we will be able to meet at the top of Pike Peak (the North end of the Resort) to get organized and start the parade off at 2.00pm.  The parade will tour the entire Resort and then come to an end after passing the Resort Store the second time.  There will be a parade leader there ready to start the tour once everyone is ready. \nWe are not quite yet out of the woods in regards to the Covid Cooties.  If you are not comfortable gathering with the other participants in the parade\, feel free to hang out a little east on Fern Trail where there is lots of extra room.  You will then be able to join in the parade as it starts\, while maintaining physical distancing.
URL:https://www.fawcettlakeresort.com/event/red-white-parade/
END:VEVENT
BEGIN:VEVENT
DTSTART;TZID=America/Phoenix:20210702T230000
DTEND;TZID=America/Phoenix:20210702T233000
DTSTAMP:20260425T062713
CREATED:20210622T035615Z
LAST-MODIFIED:20210622T035615Z
UID:2823-1625266800-1625268600@www.fawcettlakeresort.com
SUMMARY:Canada Fireworks (and Beach Clean-up)
DESCRIPTION:The stars\, planets & flaming exploding balls of fun have finally aligned and we are able to celebrate Canada Day long weekend with a bang! \nEast Fawcett Lake Campers Club Fireworks display will be taking place at the main beach @11pm Friday July 2nd (in case of inclement weather Saturday will be the backup).  We currently have enough money in the fund for an approximately 15 minute show. If you would like to donate some extra funds please send any donations prior to June 27th before I purchase the fireworks & head up for the week. A little extra can go a long way to enhancing the display.  Etransfer: adam_burrough@hotmail.com Alternatively: Marilyn has set up the donation kettle (the “Coffee Pot”) in the store if you would rather donate cash. \nKeep in mind\, fireworks anywhere on the resort are prohibited (they are illegal without a permit) at all times other than this night at the Main Swimming Beach! If you have purchased fireworks you are welcome to fire them off on the beach before the main show\, or feel free to drop them off at lot #161 over the course of the week and we will be happy to add them to the excitement.  \nPlease try and maintain physical distancing as best as possible as we are not quite yet out of the woods in regards to the Covid Cooties. In addition please obey all barriers & road blocks as the area can get very busy and we need a perimeter for everyone’s safety.  ATV’s will not be allowed in the area during the show unless there are special circumstances. \nRemember guest fees go directly to making all these fun events possible and to thank Kathy or Melissa of the Campers Club Council for all their hard work. \nHelp is appreciated the following morning @11am for a beach cleanup as they can make quite the mess.  Bring a bucket and some gloves. \nCan’t wait to see all the Fawcett Lake Family together again   Have a safe & happy lake season everyone
URL:https://www.fawcettlakeresort.com/event/canada-fireworks-and-beach-clean-up/
LOCATION:Main Swimming Beach
END:VEVENT
BEGIN:VEVENT
DTSTART;TZID=America/Phoenix:20210523T130000
DTEND;TZID=America/Phoenix:20210523T150000
DTSTAMP:20260425T062713
CREATED:20210305T170723Z
LAST-MODIFIED:20210519T171450Z
UID:2133-1621774800-1621782000@www.fawcettlakeresort.com
SUMMARY:Annual Campers Spring Meeting - Cancelled due to COVID-19 restrictions
DESCRIPTION:The Annual Meeting of all Annual Campers is when everyone gets a chance to offer ideas for events or projects for the entire summer.  Decisions will be made at this meeting\, and issues will be addressed. \nThe meeting is open to everyone\, even those who do not have a lot at the Resort. It will be held outside so bring a lawn chair and dress for the weather. \n  \n——This event is dependent on Covid-19 regulations in effect at that time. ——-
URL:https://www.fawcettlakeresort.com/event/annual-campers-spring-meeting/
LOCATION:Store Community Building
END:VEVENT
BEGIN:VEVENT
DTSTART;TZID=America/Phoenix:20200906T130000
DTEND;TZID=America/Phoenix:20200906T150000
DTSTAMP:20260425T062713
CREATED:20191007T195210Z
LAST-MODIFIED:20210305T165330Z
UID:1913-1599397200-1599404400@www.fawcettlakeresort.com
SUMMARY:Annual Campers Fall Meeting - cancelled
DESCRIPTION:The meeting is open to everyone\, even those who do not have a lot (and won’t be allowed to vote). It will be outside so bring a lawn chair and dress for the weather.
URL:https://www.fawcettlakeresort.com/event/annual-campers-fall-meeting/
LOCATION:Store Community Building
END:VEVENT
BEGIN:VEVENT
DTSTART;VALUE=DATE:20200704
DTEND;VALUE=DATE:20200705
DTSTAMP:20260425T062713
CREATED:20200406T225838Z
LAST-MODIFIED:20200625T163026Z
UID:1954-1593820800-1593907199@www.fawcettlakeresort.com
SUMMARY:Canada Celebrations - cancelled
DESCRIPTION:This event has been cancelled this year\, due to COVID-19 restrictions \n  \nCome one come all\, to help celebrate the birthday of our country.  The red & white celebrations are a long standing tradition at the lake but they need you and your family to participate\, as well as volunteer.   Dress up for the parade\, and get ready for the fireworks\, because the day promises to be full of fun with your lake friends.  If you have an idea for an event to help celebrate our country\, or any event\, please send it to events@fawcettlakeresort.com to get things started.
URL:https://www.fawcettlakeresort.com/event/canada-celebrations-4/
END:VEVENT
BEGIN:VEVENT
DTSTART;TZID=America/Phoenix:20200519T130000
DTEND;TZID=America/Phoenix:20200519T150000
DTSTAMP:20260425T062713
CREATED:20191007T195045Z
LAST-MODIFIED:20210305T165428Z
UID:1911-1589893200-1589900400@www.fawcettlakeresort.com
SUMMARY:Annual Campers Spring Meeting - cancelled
DESCRIPTION:The meeting is open to everyone\, even those who do not have a lot (and won’t be allowed to vote). It will be outside so bring a lawn chair and dress for the weather.
URL:https://www.fawcettlakeresort.com/event/annual-campers-meeting/
LOCATION:Store Community Building
END:VEVENT
BEGIN:VEVENT
DTSTART;TZID=America/Phoenix:20190901T130000
DTEND;TZID=America/Phoenix:20190901T150000
DTSTAMP:20260425T062713
CREATED:20190718T163636Z
LAST-MODIFIED:20190718T163636Z
UID:1869-1567342800-1567350000@www.fawcettlakeresort.com
SUMMARY:General meeting
DESCRIPTION:General meeting will be held September 1 2019 at 1:00 pm at or outside the store. \nTopics discussed from the East Fawcett Lake Campers Club: \nFuture Events \nFunds available \nPossible upcoming purchases \nFirst Aid kit & shed \nMemorial bench plaques \nPlayground \nBoat launch \nMoose park \nVolunteer coordinator \nVolunteers \nRules & regulations \nDogs \nPermits & licenses \nHarley Go Fund Me \nFireworks
URL:https://www.fawcettlakeresort.com/event/general-meeting/
LOCATION:Store Community Building
END:VEVENT
BEGIN:VEVENT
DTSTART;TZID=America/Phoenix:20190803T083000
DTEND;TZID=America/Phoenix:20190803T110000
DTSTAMP:20260425T062713
CREATED:20190718T162923Z
LAST-MODIFIED:20190718T162923Z
UID:1867-1564821000-1564830000@www.fawcettlakeresort.com
SUMMARY:Pancake Breakfast
DESCRIPTION:Pancake Breakfast \nCome see us at our pancake breakfast \nThe last one was such a success\, we are going to have another one! \nPancakes\, sausages\, coffee\, tea or juice \n$5.00 a plate \nSmiles and good times are free
URL:https://www.fawcettlakeresort.com/event/pancake-breakfast/
LOCATION:Store Community Building
END:VEVENT
BEGIN:VEVENT
DTSTART;VALUE=DATE:20190629
DTEND;VALUE=DATE:20190701
DTSTAMP:20260425T062713
CREATED:20190508T155515Z
LAST-MODIFIED:20190508T155515Z
UID:1835-1561766400-1561939199@www.fawcettlakeresort.com
SUMMARY:Canada Celebrations
DESCRIPTION:It is time to dress up your lot\, your quad\, your kids\, your pets and your spouse and celebrate the birthday of our country.  These celebrations are always busy and include fireworks\, a parade and other events so be prepared to have some fun with your lake friends.  If you have an idea for an event to help celebrate our country\, or any event\, please send it to events@fawcettlakeresort.com to get things started.
URL:https://www.fawcettlakeresort.com/event/canada-celebrations-3/
LOCATION:Throughout the Resort
END:VEVENT
BEGIN:VEVENT
DTSTART;TZID=America/Phoenix:20190519T130000
DTEND;TZID=America/Phoenix:20190519T150000
DTSTAMP:20260425T062713
CREATED:20181104T194626Z
LAST-MODIFIED:20181104T194626Z
UID:1645-1558270800-1558278000@www.fawcettlakeresort.com
SUMMARY:FLRCA Annual Meeting 2019
DESCRIPTION:It is time to start the Camping Season.  The Annual Meeting will be Sunday of the May long weekend (May 19\, 2019)\, at 1.00pm by the Store Community Building.  This meeting is your chance to learn about what will be happening at the lake this year.  There will be decisions made affecting issues like our budget\, our emergency volunteers\, as well as the social events for this year.  There will be time for anyone who would like to speak at the meeting\, or to talk about whatever issues come up.  If you have any specific topics that should be added to the agenda\, please send a message to the events coordinator. The meeting is open to everyone\, even those who do not have a lot (and won’t be allowed to vote).  The meeting will be outside so bring a lawn chair and dress for the weather.
URL:https://www.fawcettlakeresort.com/event/flrca-annual-meeting-2019/
LOCATION:Store Community Building
END:VEVENT
BEGIN:VEVENT
DTSTART;TZID=America/Phoenix:20190217T090000
DTEND;TZID=America/Phoenix:20190217T160000
DTSTAMP:20260425T062713
CREATED:20190207T185955Z
LAST-MODIFIED:20190207T192302Z
UID:1704-1550394000-1550419200@www.fawcettlakeresort.com
SUMMARY:Family Day Ice Fishing Derby
DESCRIPTION:Hi everyone.  It’s that time of year again. Time to get out and have some fun with the kids\, and do some fishing at the\nFamily Day Ice Fishing Derby. \nThe plan is to get things underway with:\n–    Registration in the Picnic Shelter at the beach from 09:00 – 10:00am\n–    Fishing from 10:00am – 2:00pm\n–    Weiner Roast and Prizes from 2:00 – 4:00pm \nEntry for all participants is free\, but we ask that All entrants over the age of 18 donate a prize.  The prize donated can be any thing you choose.  This derby is all about having fun\, and spending some quality family time.  The prize categories are dependent on the amount of prizes that are donated.   \nThis event is put on by the Fawcett Lake Resort Campers Association (FLRCA) and is run by volunteers\, so please help out in anyway you can.  If you have any questions or suggestions about the event\, please contact events@fawcettlakeresort.com. \nPlease spread the word\, as the derby is open to anyone who would like to participate\, so tell your friends and family.  Hope to have a big turnout this year and keep this derby going as an annual event.  Thanks everyone.
URL:https://www.fawcettlakeresort.com/event/family-day-ice-fishing-derby-2/
LOCATION:Beach Shack Picnic Shelter
END:VEVENT
BEGIN:VEVENT
DTSTART;VALUE=DATE:20180701
DTEND;VALUE=DATE:20180702
DTSTAMP:20260425T062713
CREATED:20180420T012345Z
LAST-MODIFIED:20180420T012345Z
UID:1597-1530403200-1530489599@www.fawcettlakeresort.com
SUMMARY:Canada Celebrations
DESCRIPTION:The July 1st long weekend at the lake is a long standing tradition that has taken a life of its own.  Decorate your ATV and dress in your Red & White to celebrate the birth of Canada with your family and friends.  In prior years\, planned celebrations have included a barbeque party\, quad parade\, kid’s activities\, and fireworks but the possibilities are only limited by your imagination.  These events are all organized and run by volunteers\, so please consider taking charge of one and making sure the day is celebrated in style.  Offers to volunteer and ideas for events can be submitted to events@fawcettlakeresort.com and then discussed at the Annual Meeting.
URL:https://www.fawcettlakeresort.com/event/canada-celebrations-2/
LOCATION:Throughout the Resort
END:VEVENT
BEGIN:VEVENT
DTSTART;TZID=America/Phoenix:20180520T130000
DTEND;TZID=America/Phoenix:20180520T150000
DTSTAMP:20260425T062713
CREATED:20171211T183148Z
LAST-MODIFIED:20171211T183148Z
UID:1564-1526821200-1526828400@www.fawcettlakeresort.com
SUMMARY:FLRCA Annual Meeting 2018
DESCRIPTION:As with every year\, the Annual Meeting is scheduled for the Sunday of the May long weekend (May 20\, 2018)\, at 1.00pm by the Store Community Building.  This is the main meeting of our community and decisions will be made that will likely affect you and your family.  If you would like a specific topic added to the agenda for the meeting or if you would like to have some time set aside for you to speak to everyone\, just let the events coordinator know.  Everyone is welcome at this meeting even if you do not have a lot (you just won’t be allowed to vote).  Remember to bring a lawn chair and dress for the weather because it will be held outside. \n\nFLRCA Annual Meeting 2018 \nMay 20\, 2018 @ 1:00 pm – 3:00 pm \nStore Community Building
URL:https://www.fawcettlakeresort.com/event/flrca-annual-meeting-2018/
LOCATION:Store Community Building
END:VEVENT
BEGIN:VEVENT
DTSTART;TZID=America/Phoenix:20170701T223000
DTEND;TZID=America/Phoenix:20170701T233000
DTSTAMP:20260425T062713
CREATED:20170412T041458Z
LAST-MODIFIED:20170412T041458Z
UID:1493-1498948200-1498951800@www.fawcettlakeresort.com
SUMMARY:Canada 150th Birthday Fireworks
DESCRIPTION:Come celebrate Canada’s 150th Birthday.  The fireworks show is set to happen Saturday night of the July long weekend\, followed by clean up on Sunday morning at 10.00am.  Bring a lawn chair as ATVs will not be allowed in the area.  This event is run by volunteers and paid for by your donations\, so be sure to put something in the coffee pot that night to help out.  You are welcome to light your own fireworks from the beach before the show (permit obtained).  The main show will start as soon as it is dark enough. \n 
URL:https://www.fawcettlakeresort.com/event/canada-150th-birthday-fireworks-2/
END:VEVENT
BEGIN:VEVENT
DTSTART;TZID=America/Phoenix:20170701T130000
DTEND;TZID=America/Phoenix:20170701T140000
DTSTAMP:20260425T062713
CREATED:20170411T045038Z
LAST-MODIFIED:20170411T045038Z
UID:1490-1498914000-1498917600@www.fawcettlakeresort.com
SUMMARY:Canada Quad Parade
DESCRIPTION:  \nCome celebrate Canada’s 150th Birthday with our long standing tradition of the Canada Quad Parade throughout the Resort.  Everyone\, young and old\, is encouraged to dress up both your selves and your ATV\, bicycle or whatever\, in our national red and white colors.   There is no charge to join.  Meet at the north end of Narrows Way (top of the hill) for a 1.00pm start.  If you will not be in the parade this year\, be sure to put out your lawn chair in front of your lot and cheer on the participants. \n 
URL:https://www.fawcettlakeresort.com/event/canada-quad-parade-3/
END:VEVENT
BEGIN:VEVENT
DTSTART;TZID=America/Phoenix:20170521T130000
DTEND;TZID=America/Phoenix:20170521T150000
DTSTAMP:20260425T062713
CREATED:20170412T194716Z
LAST-MODIFIED:20170412T194952Z
UID:1496-1495371600-1495378800@www.fawcettlakeresort.com
SUMMARY:FLRCA Annual Meeting 2017
DESCRIPTION:The Annual Meeting is once again scheduled for the Sunday of the May long weekend (May 21\, 2017)\, at 1.00pm by the Store Community Building.  Thanks to Martina (lot 146) for running it again this year.  Remember\, this is the main meeting of our community and decisions will be made that could affect you.  If you have a topic you would like discussed at the meeting\, send it to the events coordinator.  All are welcome\, but don’t forget to bring a lawn chair and dress for the weather because it is held outside. \n 
URL:https://www.fawcettlakeresort.com/event/flrca-annual-meeting-2017/
END:VEVENT
BEGIN:VEVENT
DTSTART;TZID=America/Phoenix:20170219T090000
DTEND;TZID=America/Phoenix:20170219T160000
DTSTAMP:20260425T062713
CREATED:20170204T214246Z
LAST-MODIFIED:20170204T214246Z
UID:1457-1487494800-1487520000@www.fawcettlakeresort.com
SUMMARY:Family Day Ice Fishing Derby
DESCRIPTION:  \nHowdy campers! It’s that time of year again for getting out to fish the hardwater and spend some family time at the lake. The derby will be held at the picnic shelter down by the beach this year. To register and fish is completely free. The only thing that I ask is that everyone over the age of 18 must donate a prize. The prizes don’t have to be extravagant\, after all\, it’s more about having fun. \nRegistration will take place at the picnic shelter from 9-10 a.m.\nFishing will be from 10-2. Based on the honor system (and maybe a photo) due to Walleye restrictions\nWeigh in and prize distribution will be from 2-4 at the picnic shelter. \nI was thinking that a barbecue and 50/50 draw from 2-5 might be a good way to raise a bit of money for the FLRCA. I hope that we get a lot more people this year\, and continue to make this happen. Volunteers will be needed to help out\, so if you are willing and able\, please let me know. \nAll resort rules are in effect for the derby\, so we all need to clean up after ourselves and keep all machines off the beach area. \nPlease us know if you are coming so we have an idea of how many people are ready to have some fun.  You can contact Curt Tkachyk through Facebook or just send a message to events.coordinator@fawcettlakeresort.com.
URL:https://www.fawcettlakeresort.com/event/family-day-ice-fishing-derby/
LOCATION:Beach Shack Picnic Shelter
END:VEVENT
BEGIN:VEVENT
DTSTART;TZID=America/Phoenix:20160903T163000
DTEND;TZID=America/Phoenix:20160903T193000
DTSTAMP:20260425T062713
CREATED:20160816T174532Z
LAST-MODIFIED:20160816T174532Z
UID:1430-1472920200-1472931000@www.fawcettlakeresort.com
SUMMARY:Corn Roast
DESCRIPTION:Come down to the picnic shelter for our last family barbeque of the season.  There will be corn on the cob\, burgers (including veggie burgers) and hot dogs.  All proceeds go the Fawcett Lake Resort Campers Association.  With the weather cooling off\, we may even have a fire afterwards for a community sing -a-long. \n  \nAdults – $5.00 \nYouth – $3.00
URL:https://www.fawcettlakeresort.com/event/corn-roast/
LOCATION:Beach Shack Picnic Shelter
END:VEVENT
BEGIN:VEVENT
DTSTART;TZID=America/Phoenix:20160903T130000
DTEND;TZID=America/Phoenix:20160903T160000
DTSTAMP:20260425T062713
CREATED:20160816T174624Z
LAST-MODIFIED:20160816T174624Z
UID:1431-1472907600-1472918400@www.fawcettlakeresort.com
SUMMARY:Garage Sale Day
DESCRIPTION:Its Garage Sale season.  Time to clean out that shed and find all that “perfectly good” stuff\, that for some reason you never use.  The Fawcett Lake Resort Campers Association Annual Garage Sale Day will be the perfect time to see that it goes to a good home\, and puts a little money in your jeans too. \n  \nIf you are interested in selling that day\, there is no need to register.  Just put a ribbon of some sort around your lot number sign telling people that they are welcome to come check out your stuff and make an offer.  Then please remember to remove your ribbon at 4.00pm when the sale is over.  As for all of you G-sale buyers out there\, please only enter a lot that has a ribbon on it and make sure you introduce yourself.  Happy Shopping!!! \n 
URL:https://www.fawcettlakeresort.com/event/garage-sale-day/
LOCATION:Throughout the Resort
END:VEVENT
END:VCALENDAR